Package: gtrellis Version: 1.39.0 Command: /home/biocbuild/bbs-3.21-bioc/R/bin/R CMD check --install=check:gtrellis.install-out.txt --library=/home/biocbuild/bbs-3.21-bioc/R/site-library --timings gtrellis_1.39.0.tar.gz StartedAt: 2025-02-09 22:58:20 -0500 (Sun, 09 Feb 2025) EndedAt: 2025-02-09 23:03:00 -0500 (Sun, 09 Feb 2025) EllapsedTime: 279.5 seconds RetCode: 0 Status: OK CheckDir: gtrellis.Rcheck Warnings: 0