Package: gwascat Version: 2.39.0 Command: /Library/Frameworks/R.framework/Resources/bin/R CMD check --install=check:gwascat.install-out.txt --library=/Library/Frameworks/R.framework/Resources/library --no-vignettes --timings gwascat_2.39.0.tar.gz StartedAt: 2025-02-10 19:36:07 -0500 (Mon, 10 Feb 2025) EndedAt: 2025-02-10 19:38:59 -0500 (Mon, 10 Feb 2025) EllapsedTime: 172.1 seconds RetCode: 1 Status: ERROR CheckDir: gwascat.Rcheck Warnings: NA