Package: gwascat Version: 2.39.0 Command: /home/biocbuild/R/R/bin/R CMD build --keep-empty-dirs --no-resave-data gwascat StartedAt: 2025-01-28 23:28:17 -0000 (Tue, 28 Jan 2025) EndedAt: 2025-01-28 23:37:56 -0000 (Tue, 28 Jan 2025) EllapsedTime: 579.2 seconds RetCode: 0 Status: OK PackageFile: gwascat_2.39.0.tar.gz PackageFileSize: 33.67 MiB