Package: gwascat Version: 2.39.0 Command: /Library/Frameworks/R.framework/Resources/bin/R CMD INSTALL gwascat StartedAt: 2025-02-05 15:35:24 -0500 (Wed, 05 Feb 2025) EndedAt: 2025-02-05 15:36:39 -0500 (Wed, 05 Feb 2025) EllapsedTime: 75.0 seconds RetCode: 0 Status: OK