Package: gwascat Version: 2.39.0 Command: chmod a+r gwascat -R && E:\biocbuild\bbs-3.21-bioc\R\bin\R.exe CMD build --keep-empty-dirs --no-resave-data gwascat StartedAt: 2025-02-10 19:19:58 -0500 (Mon, 10 Feb 2025) EndedAt: 2025-02-10 19:23:30 -0500 (Mon, 10 Feb 2025) EllapsedTime: 211.9 seconds RetCode: 0 Status: OK PackageFile: gwascat_2.39.0.tar.gz PackageFileSize: 33.44 MiB