Package: gwascat Version: 2.39.0 Command: E:\biocbuild\bbs-3.21-bioc\R\bin\R.exe CMD check --no-multiarch --install=check:gwascat.install-out.txt --library=E:\biocbuild\bbs-3.21-bioc\R\library --no-vignettes --timings gwascat_2.39.0.tar.gz StartedAt: 2025-02-13 01:59:46 -0500 (Thu, 13 Feb 2025) EndedAt: 2025-02-13 02:09:49 -0500 (Thu, 13 Feb 2025) EllapsedTime: 602.6 seconds RetCode: 1 Status: ERROR CheckDir: gwascat.Rcheck Warnings: NA