Package: gwascat Version: 2.39.0 Command: E:\biocbuild\bbs-3.21-bioc\R\bin\R.exe CMD INSTALL gwascat StartedAt: 2025-02-12 16:31:24 -0500 (Wed, 12 Feb 2025) EndedAt: 2025-02-12 16:32:47 -0500 (Wed, 12 Feb 2025) EllapsedTime: 83.3 seconds RetCode: 0 Status: OK