Package: gwasurvivr Version: 1.25.0 Command: rm -rf gwasurvivr.buildbin-libdir && mkdir gwasurvivr.buildbin-libdir && /Users/biocbuild/BBS/utils/build-universal.sh gwasurvivr_1.25.0.tar.gz /Library/Frameworks/R.framework/Resources/bin/R gwasurvivr.buildbin-libdir StartedAt: 2025-02-04 22:18:51 -0500 (Tue, 04 Feb 2025) EndedAt: 2025-02-04 22:19:10 -0500 (Tue, 04 Feb 2025) EllapsedTime: 19.4 seconds RetCode: 0 Status: OK PackageFile: gwasurvivr_1.25.0.tgz PackageFileSize: 412.9 KiB