Package: gwasurvivr Version: 1.25.0 Command: /Library/Frameworks/R.framework/Resources/bin/R CMD check --install=check:gwasurvivr.install-out.txt --library=/Library/Frameworks/R.framework/Resources/library --no-vignettes --timings gwasurvivr_1.25.0.tar.gz StartedAt: 2025-02-04 19:36:49 -0500 (Tue, 04 Feb 2025) EndedAt: 2025-02-04 19:39:14 -0500 (Tue, 04 Feb 2025) EllapsedTime: 144.8 seconds RetCode: 0 Status: OK CheckDir: gwasurvivr.Rcheck Warnings: 0