Package: gwasurvivr Version: 1.25.0 Command: /Library/Frameworks/R.framework/Resources/bin/R CMD INSTALL gwasurvivr StartedAt: 2025-02-04 15:23:18 -0500 (Tue, 04 Feb 2025) EndedAt: 2025-02-04 15:23:36 -0500 (Tue, 04 Feb 2025) EllapsedTime: 18.6 seconds RetCode: 0 Status: OK