Package: gwasurvivr Version: 1.25.0 Command: /home/biocbuild/R/R/bin/R CMD build --keep-empty-dirs --no-resave-data gwasurvivr StartedAt: 2025-01-28 23:29:02 -0000 (Tue, 28 Jan 2025) EndedAt: 2025-01-28 23:32:11 -0000 (Tue, 28 Jan 2025) EllapsedTime: 189.1 seconds RetCode: 0 Status: OK PackageFile: gwasurvivr_1.25.0.tar.gz PackageFileSize: 410.5 KiB