Package: gwasurvivr Version: 1.25.0 Command: /home/biocbuild/R/R/bin/R CMD check --install=check:gwasurvivr.install-out.txt --library=/home/biocbuild/R/R/site-library --no-vignettes --timings gwasurvivr_1.25.0.tar.gz StartedAt: 2025-01-28 11:22:01 -0000 (Tue, 28 Jan 2025) EndedAt: 2025-01-28 11:30:07 -0000 (Tue, 28 Jan 2025) EllapsedTime: 486.4 seconds RetCode: 0 Status: OK CheckDir: gwasurvivr.Rcheck Warnings: 0