Package: gwasurvivr Version: 1.25.0 Command: /home/biocbuild/R/R/bin/R CMD INSTALL gwasurvivr StartedAt: 2025-01-29 20:24:10 -0000 (Wed, 29 Jan 2025) EndedAt: 2025-01-29 20:25:11 -0000 (Wed, 29 Jan 2025) EllapsedTime: 61.4 seconds RetCode: 0 Status: OK