Package: gwasurvivr Version: 1.25.0 Command: rm -rf gwasurvivr.buildbin-libdir && mkdir gwasurvivr.buildbin-libdir && /Users/biocbuild/BBS/utils/build-universal.sh gwasurvivr_1.25.0.tar.gz /Library/Frameworks/R.framework/Resources/bin/R gwasurvivr.buildbin-libdir StartedAt: 2025-02-05 00:43:28 -0500 (Wed, 05 Feb 2025) EndedAt: 2025-02-05 00:44:31 -0500 (Wed, 05 Feb 2025) EllapsedTime: 63.7 seconds RetCode: 0 Status: OK PackageFile: gwasurvivr_1.25.0.tgz PackageFileSize: 411.9 KiB