Package: gwasurvivr Version: 1.25.0 Command: /Library/Frameworks/R.framework/Resources/bin/R CMD build --keep-empty-dirs --no-resave-data gwasurvivr StartedAt: 2025-02-04 16:57:21 -0500 (Tue, 04 Feb 2025) EndedAt: 2025-02-04 17:00:09 -0500 (Tue, 04 Feb 2025) EllapsedTime: 168.4 seconds RetCode: 0 Status: OK PackageFile: gwasurvivr_1.25.0.tar.gz PackageFileSize: 343 KiB