Package: gwasurvivr Version: 1.25.0 Command: /home/biocbuild/bbs-3.21-bioc/R/bin/R CMD build --keep-empty-dirs --no-resave-data gwasurvivr StartedAt: 2025-02-04 17:32:28 -0500 (Tue, 04 Feb 2025) EndedAt: 2025-02-04 17:35:02 -0500 (Tue, 04 Feb 2025) EllapsedTime: 154.2 seconds RetCode: 0 Status: OK PackageFile: gwasurvivr_1.25.0.tar.gz PackageFileSize: 343.1 KiB