Package: gwasurvivr Version: 1.25.0 Command: /home/biocbuild/bbs-3.21-bioc/R/bin/R CMD INSTALL gwasurvivr StartedAt: 2025-02-04 15:40:57 -0500 (Tue, 04 Feb 2025) EndedAt: 2025-02-04 15:41:42 -0500 (Tue, 04 Feb 2025) EllapsedTime: 44.5 seconds RetCode: 0 Status: OK