Package: gwasurvivr Version: 1.25.0 Command: E:\biocbuild\bbs-3.21-bioc\R\bin\R.exe CMD INSTALL gwasurvivr StartedAt: 2025-02-04 16:39:15 -0500 (Tue, 04 Feb 2025) EndedAt: 2025-02-04 16:40:05 -0500 (Tue, 04 Feb 2025) EllapsedTime: 50.1 seconds RetCode: 0 Status: OK