Package: h5mread Version: 0.99.4 Command: /home/biocbuild/R/R/bin/R CMD check --install=check:h5mread.install-out.txt --library=/home/biocbuild/R/R/site-library --no-vignettes --timings h5mread_0.99.4.tar.gz StartedAt: 2025-01-28 11:22:51 -0000 (Tue, 28 Jan 2025) EndedAt: 2025-01-28 11:27:54 -0000 (Tue, 28 Jan 2025) EllapsedTime: 303.2 seconds RetCode: 1 Status: ERROR CheckDir: h5mread.Rcheck Warnings: NA