Package: h5mread Version: 0.99.4 Command: /home/biocbuild/R/R/bin/R CMD INSTALL h5mread StartedAt: 2025-01-29 19:41:16 -0000 (Wed, 29 Jan 2025) EndedAt: 2025-01-29 19:41:45 -0000 (Wed, 29 Jan 2025) EllapsedTime: 29.1 seconds RetCode: 0 Status: OK