Package: h5mread Version: 0.99.4 Command: /home/biocbuild/bbs-3.21-bioc/R/bin/R CMD build --keep-empty-dirs --no-resave-data h5mread StartedAt: 2025-02-09 17:34:50 -0500 (Sun, 09 Feb 2025) EndedAt: 2025-02-09 17:37:38 -0500 (Sun, 09 Feb 2025) EllapsedTime: 168.5 seconds RetCode: 0 Status: OK PackageFile: h5mread_0.99.4.tar.gz PackageFileSize: 2.367 MiB