Package: h5mread Version: 0.99.4 Command: /home/biocbuild/bbs-3.21-bioc/R/bin/R CMD check --install=check:h5mread.install-out.txt --library=/home/biocbuild/bbs-3.21-bioc/R/site-library --timings h5mread_0.99.4.tar.gz StartedAt: 2025-02-09 23:01:05 -0500 (Sun, 09 Feb 2025) EndedAt: 2025-02-09 23:08:12 -0500 (Sun, 09 Feb 2025) EllapsedTime: 427.1 seconds RetCode: 0 Status: WARNINGS CheckDir: h5mread.Rcheck Warnings: 1