Package: h5mread Version: 0.99.4 Command: rm -rf h5mread.buildbin-libdir && mkdir h5mread.buildbin-libdir && E:\biocbuild\bbs-3.21-bioc\R\bin\R.exe CMD INSTALL --build --library=h5mread.buildbin-libdir h5mread_0.99.4.tar.gz StartedAt: 2025-02-10 07:54:22 -0500 (Mon, 10 Feb 2025) EndedAt: 2025-02-10 07:55:11 -0500 (Mon, 10 Feb 2025) EllapsedTime: 48.8 seconds RetCode: 0 Status: OK PackageFile: h5mread_0.99.4.zip PackageFileSize: 5.478 MiB