Package: h5mread Version: 0.99.4 Command: chmod a+r h5mread -R && E:\biocbuild\bbs-3.21-bioc\R\bin\R.exe CMD build --keep-empty-dirs --no-resave-data h5mread StartedAt: 2025-02-09 19:10:27 -0500 (Sun, 09 Feb 2025) EndedAt: 2025-02-09 19:18:49 -0500 (Sun, 09 Feb 2025) EllapsedTime: 501.2 seconds RetCode: 0 Status: OK PackageFile: h5mread_0.99.4.tar.gz PackageFileSize: 2.367 MiB