Package: h5mread Version: 0.99.4 Command: E:\biocbuild\bbs-3.21-bioc\R\bin\R.exe CMD INSTALL h5mread StartedAt: 2025-02-09 15:49:19 -0500 (Sun, 09 Feb 2025) EndedAt: 2025-02-09 15:50:10 -0500 (Sun, 09 Feb 2025) EllapsedTime: 50.8 seconds RetCode: 0 Status: OK