Package: h5vc Version: 2.41.1 Command: rm -rf h5vc.buildbin-libdir && mkdir h5vc.buildbin-libdir && /Users/biocbuild/BBS/utils/build-universal.sh h5vc_2.41.1.tar.gz /Library/Frameworks/R.framework/Resources/bin/R h5vc.buildbin-libdir StartedAt: 2025-02-05 22:22:00 -0500 (Wed, 05 Feb 2025) EndedAt: 2025-02-05 22:22:10 -0500 (Wed, 05 Feb 2025) EllapsedTime: 10.2 seconds RetCode: 0 Status: OK PackageFile: h5vc_2.41.1.tgz PackageFileSize: 2.136 MiB