Package: h5vc Version: 2.41.1 Command: /Library/Frameworks/R.framework/Resources/bin/R CMD build --keep-empty-dirs --no-resave-data h5vc StartedAt: 2025-02-09 16:34:40 -0500 (Sun, 09 Feb 2025) EndedAt: 2025-02-09 16:36:07 -0500 (Sun, 09 Feb 2025) EllapsedTime: 86.8 seconds RetCode: 1 Status: ERROR PackageFile: None PackageFileSize: NA