Package: h5vc Version: 2.41.1 Command: /Library/Frameworks/R.framework/Resources/bin/R CMD check --install=check:h5vc.install-out.txt --library=/Library/Frameworks/R.framework/Resources/library --no-vignettes --timings h5vc_2.41.1.tar.gz StartedAt: 2025-02-04 19:37:10 -0500 (Tue, 04 Feb 2025) EndedAt: 2025-02-04 19:38:21 -0500 (Tue, 04 Feb 2025) EllapsedTime: 70.8 seconds RetCode: 0 Status: WARNINGS CheckDir: h5vc.Rcheck Warnings: 1