Package: h5vc Version: 2.41.1 Command: /home/biocbuild/R/R/bin/R CMD build --keep-empty-dirs --no-resave-data h5vc StartedAt: 2025-01-28 23:30:23 -0000 (Tue, 28 Jan 2025) EndedAt: 2025-01-28 23:35:55 -0000 (Tue, 28 Jan 2025) EllapsedTime: 332.2 seconds RetCode: 0 Status: OK PackageFile: h5vc_2.41.1.tar.gz PackageFileSize: 1.16 MiB