Package: h5vc Version: 2.41.1 Command: /home/biocbuild/R/R/bin/R CMD check --install=check:h5vc.install-out.txt --library=/home/biocbuild/R/R/site-library --no-vignettes --timings h5vc_2.41.1.tar.gz StartedAt: 2025-01-28 11:23:15 -0000 (Tue, 28 Jan 2025) EndedAt: 2025-01-28 11:27:08 -0000 (Tue, 28 Jan 2025) EllapsedTime: 233.1 seconds RetCode: 0 Status: WARNINGS CheckDir: h5vc.Rcheck Warnings: 1