Package: h5vc Version: 2.41.1 Command: /home/biocbuild/R/R/bin/R CMD INSTALL h5vc StartedAt: 2025-01-29 19:58:44 -0000 (Wed, 29 Jan 2025) EndedAt: 2025-01-29 19:59:12 -0000 (Wed, 29 Jan 2025) EllapsedTime: 27.6 seconds RetCode: 0 Status: OK