Package: h5vc Version: 2.41.1 Command: /Library/Frameworks/R.framework/Resources/bin/R CMD INSTALL h5vc StartedAt: 2025-02-09 15:15:21 -0500 (Sun, 09 Feb 2025) EndedAt: 2025-02-09 15:15:50 -0500 (Sun, 09 Feb 2025) EllapsedTime: 29.2 seconds RetCode: 0 Status: OK