Package: h5vc Version: 2.41.1 Command: /home/biocbuild/bbs-3.21-bioc/R/bin/R CMD build --keep-empty-dirs --no-resave-data h5vc StartedAt: 2025-02-09 17:34:54 -0500 (Sun, 09 Feb 2025) EndedAt: 2025-02-09 17:39:02 -0500 (Sun, 09 Feb 2025) EllapsedTime: 248.5 seconds RetCode: 0 Status: OK PackageFile: h5vc_2.41.1.tar.gz PackageFileSize: 1.621 MiB