Package: h5vc Version: 2.41.1 Command: rm -rf h5vc.buildbin-libdir && mkdir h5vc.buildbin-libdir && E:\biocbuild\bbs-3.21-bioc\R\bin\R.exe CMD INSTALL --build --library=h5vc.buildbin-libdir h5vc_2.41.1.tar.gz StartedAt: 2025-02-05 08:06:04 -0500 (Wed, 05 Feb 2025) EndedAt: 2025-02-05 08:06:46 -0500 (Wed, 05 Feb 2025) EllapsedTime: 42.6 seconds RetCode: 0 Status: OK PackageFile: h5vc_2.41.1.zip PackageFileSize: 5.784 MiB