Package: h5vc Version: 2.41.1 Command: E:\biocbuild\bbs-3.21-bioc\R\bin\R.exe CMD check --no-multiarch --install=check:h5vc.install-out.txt --library=E:\biocbuild\bbs-3.21-bioc\R\library --no-vignettes --timings h5vc_2.41.1.tar.gz StartedAt: 2025-02-05 02:17:58 -0500 (Wed, 05 Feb 2025) EndedAt: 2025-02-05 02:23:10 -0500 (Wed, 05 Feb 2025) EllapsedTime: 312.0 seconds RetCode: 0 Status: WARNINGS CheckDir: h5vc.Rcheck Warnings: 1