Package: h5vc Version: 2.41.1 Command: E:\biocbuild\bbs-3.21-bioc\R\bin\R.exe CMD INSTALL h5vc StartedAt: 2025-02-04 15:40:08 -0500 (Tue, 04 Feb 2025) EndedAt: 2025-02-04 15:41:24 -0500 (Tue, 04 Feb 2025) EllapsedTime: 76.3 seconds RetCode: 0 Status: OK