Package: hapFabia Version: 1.49.0 Maintainer: Andreas Mitterecker MaintainerEmail: mitterecker at bioinf.jku.at git_url: https://git.bioconductor.org/packages/hapFabia git_branch: devel git_last_commit: 469b361 git_last_commit_date: 2024-10-29 09:42:32 -0500 (Tue, 29 Oct 2024)