Package: hapFabia Version: 1.49.0 Command: rm -rf hapFabia.buildbin-libdir && mkdir hapFabia.buildbin-libdir && /Users/biocbuild/BBS/utils/build-universal.sh hapFabia_1.49.0.tar.gz /Library/Frameworks/R.framework/Resources/bin/R hapFabia.buildbin-libdir StartedAt: 2025-02-09 22:17:02 -0500 (Sun, 09 Feb 2025) EndedAt: 2025-02-09 22:17:08 -0500 (Sun, 09 Feb 2025) EllapsedTime: 6.1 seconds RetCode: 0 Status: OK PackageFile: hapFabia_1.49.0.tgz PackageFileSize: 1.783 MiB