Package: hapFabia Version: 1.49.0 Command: /Library/Frameworks/R.framework/Resources/bin/R CMD INSTALL hapFabia StartedAt: 2025-02-12 15:01:22 -0500 (Wed, 12 Feb 2025) EndedAt: 2025-02-12 15:01:28 -0500 (Wed, 12 Feb 2025) EllapsedTime: 6.3 seconds RetCode: 0 Status: OK