Package: hapFabia Version: 1.49.0 Command: /home/biocbuild/R/R/bin/R CMD INSTALL hapFabia StartedAt: 2025-01-29 19:32:03 -0000 (Wed, 29 Jan 2025) EndedAt: 2025-01-29 19:32:20 -0000 (Wed, 29 Jan 2025) EllapsedTime: 17.6 seconds RetCode: 0 Status: OK