Package: hapFabia Version: 1.49.0 Command: rm -rf hapFabia.buildbin-libdir && mkdir hapFabia.buildbin-libdir && /Users/biocbuild/BBS/utils/build-universal.sh hapFabia_1.49.0.tar.gz /Library/Frameworks/R.framework/Resources/bin/R hapFabia.buildbin-libdir StartedAt: 2025-02-10 00:57:10 -0500 (Mon, 10 Feb 2025) EndedAt: 2025-02-10 00:57:32 -0500 (Mon, 10 Feb 2025) EllapsedTime: 21.8 seconds RetCode: 0 Status: OK PackageFile: hapFabia_1.49.0.tgz PackageFileSize: 1.784 MiB