Package: hapFabia Version: 1.49.0 Command: /home/biocbuild/bbs-3.21-bioc/R/bin/R CMD check --install=check:hapFabia.install-out.txt --library=/home/biocbuild/bbs-3.21-bioc/R/site-library --timings hapFabia_1.49.0.tar.gz StartedAt: 2025-02-09 23:01:51 -0500 (Sun, 09 Feb 2025) EndedAt: 2025-02-09 23:02:59 -0500 (Sun, 09 Feb 2025) EllapsedTime: 68.1 seconds RetCode: 0 Status: WARNINGS CheckDir: hapFabia.Rcheck Warnings: 2