Package: hapFabia Version: 1.49.0 Command: /home/biocbuild/bbs-3.21-bioc/R/bin/R CMD INSTALL hapFabia StartedAt: 2025-02-09 15:13:16 -0500 (Sun, 09 Feb 2025) EndedAt: 2025-02-09 15:13:27 -0500 (Sun, 09 Feb 2025) EllapsedTime: 10.5 seconds RetCode: 0 Status: OK