Package: hapFabia Version: 1.49.0 Command: chmod a+r hapFabia -R && E:\biocbuild\bbs-3.21-bioc\R\bin\R.exe CMD build --keep-empty-dirs --no-resave-data hapFabia StartedAt: 2025-02-09 19:10:33 -0500 (Sun, 09 Feb 2025) EndedAt: 2025-02-09 19:11:28 -0500 (Sun, 09 Feb 2025) EllapsedTime: 55.0 seconds RetCode: 0 Status: OK PackageFile: hapFabia_1.49.0.tar.gz PackageFileSize: 1.573 MiB