Package: hapFabia Version: 1.49.0 Command: E:\biocbuild\bbs-3.21-bioc\R\bin\R.exe CMD check --no-multiarch --install=check:hapFabia.install-out.txt --library=E:\biocbuild\bbs-3.21-bioc\R\library --no-vignettes --timings hapFabia_1.49.0.tar.gz StartedAt: 2025-02-10 01:50:52 -0500 (Mon, 10 Feb 2025) EndedAt: 2025-02-10 01:52:14 -0500 (Mon, 10 Feb 2025) EllapsedTime: 82.3 seconds RetCode: 0 Status: WARNINGS CheckDir: hapFabia.Rcheck Warnings: 2