Package: hca Version: 1.15.0 Command: rm -rf hca.buildbin-libdir && mkdir hca.buildbin-libdir && /Users/biocbuild/BBS/utils/build-universal.sh hca_1.15.0.tar.gz /Library/Frameworks/R.framework/Resources/bin/R hca.buildbin-libdir StartedAt: 2025-01-31 22:19:02 -0500 (Fri, 31 Jan 2025) EndedAt: 2025-01-31 22:19:05 -0500 (Fri, 31 Jan 2025) EllapsedTime: 3.1 seconds RetCode: 0 Status: OK PackageFile: hca_1.15.0.tgz PackageFileSize: 593 KiB