Package: hca Version: 1.15.0 Command: /Library/Frameworks/R.framework/Resources/bin/R CMD build --keep-empty-dirs --no-resave-data hca StartedAt: 2025-02-03 17:11:44 -0500 (Mon, 03 Feb 2025) EndedAt: 2025-02-03 17:11:52 -0500 (Mon, 03 Feb 2025) EllapsedTime: 8.1 seconds RetCode: 1 Status: ERROR PackageFile: None PackageFileSize: NA