Package: hca Version: 1.15.0 Command: /Library/Frameworks/R.framework/Resources/bin/R CMD check --install=check:hca.install-out.txt --library=/Library/Frameworks/R.framework/Resources/library --no-vignettes --timings hca_1.15.0.tar.gz StartedAt: 2025-01-31 19:36:52 -0500 (Fri, 31 Jan 2025) EndedAt: 2025-01-31 19:38:40 -0500 (Fri, 31 Jan 2025) EllapsedTime: 107.3 seconds RetCode: 0 Status: OK CheckDir: hca.Rcheck Warnings: 0