Package: hca Version: 1.15.0 Command: /Library/Frameworks/R.framework/Resources/bin/R CMD INSTALL hca StartedAt: 2025-02-03 15:50:59 -0500 (Mon, 03 Feb 2025) EndedAt: 2025-02-03 15:51:02 -0500 (Mon, 03 Feb 2025) EllapsedTime: 3.0 seconds RetCode: 0 Status: OK