Package: hca Version: 1.15.0 Command: /home/biocbuild/R/R/bin/R CMD INSTALL hca StartedAt: 2025-01-29 20:07:33 -0000 (Wed, 29 Jan 2025) EndedAt: 2025-01-29 20:07:42 -0000 (Wed, 29 Jan 2025) EllapsedTime: 8.5 seconds RetCode: 0 Status: OK